BEGIN:VCALENDAR
VERSION:2.0
PRODID:-//wp-events-plugin.com//7.2.3.1//EN
TZID:America/New_York
X-WR-TIMEZONE:America/New_York
BEGIN:VEVENT
UID:763@kccny.org
DTSTART;TZID=America/New_York;VALUE=DATE:20250613
DTEND;TZID=America/New_York;VALUE=DATE:20250616
DTSTAMP:20250611T112242Z
URL:https://kccny.org/events/winni-river-days-2/
SUMMARY:Winni River Days
DESCRIPTION:Winni River Days – Winnipesaukee 6/13 to 6/14\,\nCentral St\,
  Franklin\, NH 03235
ATTACH;FMTTYPE=image/jpeg:https://kccny.org/wp-content/uploads/2025/06/win
 ni.jpg
CATEGORIES:trip
LOCATION:Winnipesaukee\, Central St.\, Franklin\, NH\, 03235\, United State
 s
X-APPLE-STRUCTURED-LOCATION;VALUE=URI;X-ADDRESS=Central St.\, Franklin\, NH
 \, 03235\, United States;X-APPLE-RADIUS=100;X-TITLE=Winnipesaukee:geo:0,0
END:VEVENT
BEGIN:VTIMEZONE
TZID:America/New_York
X-LIC-LOCATION:America/New_York
BEGIN:DAYLIGHT
DTSTART:20250309T030000
TZOFFSETFROM:-0500
TZOFFSETTO:-0400
TZNAME:EDT
END:DAYLIGHT
END:VTIMEZONE
END:VCALENDAR