BEGIN:VCALENDAR
VERSION:2.0
PRODID:-//wp-events-plugin.com//7.2.3.1//EN
TZID:America/New_York
X-WR-TIMEZONE:America/New_York
BEGIN:VEVENT
UID:906@kccny.org
DTSTART;TZID=America/New_York;VALUE=DATE:20260611
DTEND;TZID=America/New_York;VALUE=DATE:20260615
DTSTAMP:20260419T153301Z
URL:https://kccny.org/events/lower-youghiogheny-iii-2/
SUMMARY:Lower Youghiogheny (III) with camping
DESCRIPTION:Lower Youghiogheny
ATTACH;FMTTYPE=image/jpeg:https://kccny.org/wp-content/uploads/2025/07/Sur
 f-spots-below-Bruner-Run-takeout-Youghiogheny-Lower.jpg
CATEGORIES:important,trip
LOCATION:Yough - Ohiopyle State Park Visitor Center\, 124 Main St\, Ohiopyl
 e\, PA\, 15470\, United States
X-APPLE-STRUCTURED-LOCATION;VALUE=URI;X-ADDRESS=124 Main St\, Ohiopyle\, PA
 \, 15470\, United States;X-APPLE-RADIUS=100;X-TITLE=Yough - Ohiopyle State
  Park Visitor Center:geo:0,0
END:VEVENT
BEGIN:VTIMEZONE
TZID:America/New_York
X-LIC-LOCATION:America/New_York
BEGIN:DAYLIGHT
DTSTART:20260308T030000
TZOFFSETFROM:-0500
TZOFFSETTO:-0400
TZNAME:EDT
END:DAYLIGHT
END:VTIMEZONE
END:VCALENDAR