BEGIN:VCALENDAR
VERSION:2.0
PRODID:-//wp-events-plugin.com//7.2.3.1//EN
TZID:America/New_York
X-WR-TIMEZONE:America/New_York
BEGIN:VEVENT
UID:908@kccny.org
DTSTART;TZID=America/New_York;VALUE=DATE:20260522
DTEND;TZID=America/New_York;VALUE=DATE:20260525
DTSTAMP:20260424T143655Z
URL:https://kccny.org/events/lehigh-with-camping-memday26/
SUMMARY:Memorial Day Weekend Lehigh with Camping
DESCRIPTION:Normal release - Great river for building skills and confidence
 . Camping at Riverview Park Group campsites.
ATTACH;FMTTYPE=image/jpeg:https://kccny.org/wp-content/uploads/2025/08/Lun
 ch-Rock-AWW.jpg
CATEGORIES:trip
LOCATION:Riverview Park\, 465 Riverview Rd\, Lehighton\, PA\, 18235\, Unite
 d States
X-APPLE-STRUCTURED-LOCATION;VALUE=URI;X-ADDRESS=465 Riverview Rd\, Lehighto
 n\, PA\, 18235\, United States;X-APPLE-RADIUS=100;X-TITLE=Riverview Park:g
 eo:0,0
END:VEVENT
BEGIN:VTIMEZONE
TZID:America/New_York
X-LIC-LOCATION:America/New_York
BEGIN:DAYLIGHT
DTSTART:20260308T030000
TZOFFSETFROM:-0500
TZOFFSETTO:-0400
TZNAME:EDT
END:DAYLIGHT
END:VTIMEZONE
END:VCALENDAR