BEGIN:VCALENDAR
VERSION:2.0
PRODID:-//wp-events-plugin.com//7.2.3.1//EN
TZID:America/New_York
X-WR-TIMEZONE:America/New_York
BEGIN:VEVENT
UID:785@kccny.org
DTSTART;TZID=America/New_York;VALUE=DATE:20250823
DTEND;TZID=America/New_York;VALUE=DATE:20250824
DTSTAMP:20250819T191850Z
URL:https://kccny.org/events/lehigh-riverfest-double-release-rafting-long-
 run/
SUMMARY:Lehigh RiverFest double release Rafting/long run
DESCRIPTION:Rafting Saturday will be a double release - longer but not quit
 e as bumpy swims.
ATTACH;FMTTYPE=image/jpeg:https://kccny.org/wp-content/uploads/2024/08/raf
 t-11aug24-andrea-dover-photo.jpg
CATEGORIES:trip
LOCATION:Lehigh River - White Haven\, 501 Main St\, White Haven\, PA\, 1866
 1\, United States
X-APPLE-STRUCTURED-LOCATION;VALUE=URI;X-ADDRESS=501 Main St\, White Haven\,
  PA\, 18661\, United States;X-APPLE-RADIUS=100;X-TITLE=Lehigh River - Whit
 e Haven:geo:0,0
END:VEVENT
BEGIN:VTIMEZONE
TZID:America/New_York
X-LIC-LOCATION:America/New_York
BEGIN:DAYLIGHT
DTSTART:20250309T030000
TZOFFSETFROM:-0500
TZOFFSETTO:-0400
TZNAME:EDT
END:DAYLIGHT
END:VTIMEZONE
END:VCALENDAR