BEGIN:VCALENDAR
VERSION:2.0
PRODID:-//wp-events-plugin.com//7.2.3.1//EN
TZID:America/New_York
X-WR-TIMEZONE:America/New_York
BEGIN:VEVENT
UID:794@kccny.org
DTSTART;TZID=America/New_York;VALUE=DATE:20251010
DTEND;TZID=America/New_York;VALUE=DATE:20251013
DTSTAMP:20251002T122702Z
URL:https://kccny.org/events/lehigh-mega-camping/
SUMMARY:Lehigh 'Mega' Cancelled
DESCRIPTION: Glamping at Hickory Run Group campsites - fan favorites as the
 y essentially have no back\, so you can pitch your tent as far back in the
  Pennsyltucky woods as you dare and not be kept up by rambunctious fellow 
 campers. 
ATTACH;FMTTYPE=image/jpeg:https://kccny.org/wp-content/uploads/2025/03/leh
 igh.jpg
CATEGORIES:trip
LOCATION:Lehigh River - Hickory Run Group Campground\, Organized Group Tent
  Camping at Hickory Run State Park \,  \, Albrightsville\, PA\, 18210\, Un
 ited States
X-APPLE-STRUCTURED-LOCATION;VALUE=URI;X-ADDRESS=Organized Group Tent Campin
 g at Hickory Run State Park \,  \, Albrightsville\, PA\, 18210\, United St
 ates;X-APPLE-RADIUS=100;X-TITLE=Lehigh River - Hickory Run Group Campgroun
 d:geo:0,0
END:VEVENT
BEGIN:VTIMEZONE
TZID:America/New_York
X-LIC-LOCATION:America/New_York
BEGIN:DAYLIGHT
DTSTART:20250309T030000
TZOFFSETFROM:-0500
TZOFFSETTO:-0400
TZNAME:EDT
END:DAYLIGHT
END:VTIMEZONE
END:VCALENDAR