BEGIN:VCALENDAR
VERSION:2.0
PRODID:-//wp-events-plugin.com//7.2.3.1//EN
TZID:America/New_York
X-WR-TIMEZONE:America/New_York
BEGIN:VEVENT
UID:907@kccny.org
DTSTART;TZID=America/New_York;VALUE=DATE:20260425
DTEND;TZID=America/New_York;VALUE=DATE:20260426
DTSTAMP:20260422T155822Z
URL:https://kccny.org/events/intro-to-moving-water/
SUMMARY:Intro to Moving Water
DESCRIPTION:Follow up for intro to whitewater - a full day starting early.\
 n\nRequirements: familiar with basic paddle strokes\, braces\, edging\, an
 d wet exits. If in doubt contact the instructor\n\nDescription: focus clas
 s on catching eddies. We'll start at Dunbars on section 3 of the Lehigh wh
 ere there are three channels with different speeds of flow ideal for learn
 ing how to enter and exit eddies followed by a 4 mile paddle down easy cla
 ss 2 rapids with lots of other opportunities to hone other essential skill
 s.\n\nSupport boaters needed 3-4 would be ideal\, but more would not be fr
 owned upon.\n\nWater will still be cold\, so proper gear is required. You
  may get turned away if you show up in shorts and a T-shirt.
ATTACH;FMTTYPE=image/jpeg:https://kccny.org/wp-content/uploads/2015/06/g00
 70149-e1691149827731.jpg
CATEGORIES:trip
LOCATION:Lehigh River - Dunbar's\, 202 N Main Ln\, \, Lehighton\, PA\, 1823
 5\, United States
X-APPLE-STRUCTURED-LOCATION;VALUE=URI;X-ADDRESS=202 N Main Ln\, \, Lehighto
 n\, PA\, 18235\, United States;X-APPLE-RADIUS=100;X-TITLE=Lehigh River - D
 unbar's:geo:0,0
END:VEVENT
BEGIN:VTIMEZONE
TZID:America/New_York
X-LIC-LOCATION:America/New_York
BEGIN:DAYLIGHT
DTSTART:20260308T030000
TZOFFSETFROM:-0500
TZOFFSETTO:-0400
TZNAME:EDT
END:DAYLIGHT
END:VTIMEZONE
END:VCALENDAR