BEGIN:VCALENDAR
VERSION:2.0
PRODID:-//wp-events-plugin.com//7.2.3.1//EN
TZID:America/New_York
X-WR-TIMEZONE:America/New_York
BEGIN:VEVENT
UID:431@kccny.org
DTSTART;TZID=America/New_York;VALUE=DATE:20230818
DTEND;TZID=America/New_York;VALUE=DATE:20230819
DTSTAMP:20230817T161538Z
URL:https://kccny.org/events/claredon-or-queechee-gorge-iv/
SUMMARY:Claredon or Queechee Gorge (IV)
DESCRIPTION:If we have water we'll try at least 1 of these classic Vermont 
 class IV gorges.\n\nGuides would be great\, but Claredon will be lower wat
 er and we'll scout carefully.\n\nhttps://creekvt.com/riverguide/clarendong
 orge\n\n&nbsp\;
ATTACH;FMTTYPE=image/jpeg:https://kccny.org/wp-content/uploads/2023/08/chr
 is-m-on-mill-from-creekvt-nocopyright-visable.jpg
CATEGORIES:trip
LOCATION:Claredon Gorge Appalachian Trailhead\, 2000 VT-103\, Shrewsbury\, 
 VT\, 05738\, United States
X-APPLE-STRUCTURED-LOCATION;VALUE=URI;X-ADDRESS=2000 VT-103\, Shrewsbury\, 
 VT\, 05738\, United States;X-APPLE-RADIUS=100;X-TITLE=Claredon Gorge Appal
 achian Trailhead:geo:0,0
END:VEVENT
BEGIN:VTIMEZONE
TZID:America/New_York
X-LIC-LOCATION:America/New_York
BEGIN:DAYLIGHT
DTSTART:20230312T030000
TZOFFSETFROM:-0500
TZOFFSETTO:-0400
TZNAME:EDT
END:DAYLIGHT
END:VTIMEZONE
END:VCALENDAR