BEGIN:VCALENDAR
VERSION:2.0
PRODID:-//wp-events-plugin.com//7.2.3.1//EN
TZID:America/New_York
X-WR-TIMEZONE:America/New_York
BEGIN:VEVENT
UID:791@kccny.org
DTSTART;TZID=America/New_York:20251108T120000
DTEND;TZID=America/New_York:20251108T150000
DTSTAMP:20251108T140235Z
URL:https://kccny.org/events/annual-meeting-and-lunch/
SUMMARY:Annual Meeting and Dinner
DESCRIPTION:Whiskey roads 
ATTACH;FMTTYPE=image/jpeg:https://kccny.org/wp-content/uploads/2023/09/whi
 skey-roads.jpg
CATEGORIES:meeting,waiver not needed
LOCATION:Whiskey Roads\, 152 Washington Ave\, Little Ferry\, NJ\, 07643\, U
 nited States
X-APPLE-STRUCTURED-LOCATION;VALUE=URI;X-ADDRESS=152 Washington Ave\, Little
  Ferry\, NJ\, 07643\, United States;X-APPLE-RADIUS=100;X-TITLE=Whiskey Roa
 ds:geo:0,0
END:VEVENT
BEGIN:VTIMEZONE
TZID:America/New_York
X-LIC-LOCATION:America/New_York
BEGIN:STANDARD
DTSTART:20251102T010000
TZOFFSETFROM:-0400
TZOFFSETTO:-0500
TZNAME:EST
END:STANDARD
END:VTIMEZONE
END:VCALENDAR